BEGIN:VCALENDAR
VERSION:2.0
PRODID:icalendar-ruby
CALSCALE:GREGORIAN
METHOD:PUBLISH
BEGIN:VEVENT
DTSTAMP:20260420T011832Z
UID:14-2060875@saintedwardthemartyr.com
DTSTART:20260923T130000Z
DTEND:20260923T190000Z
CLASS:PUBLIC
CREATED:20260419T181503
DESCRIPTION:
LAST-MODIFIED:20260419T181503
LOCATION:Church of St. Edward the Martyr
SUMMARY:El Barrio Angels: Drop-in Center
URL;VALUE=URI:https://www.saintedwardthemartyr.com/events/el-barrio-angels-
 drop-in-center--13/2026-09-23
END:VEVENT
END:VCALENDAR
