BEGIN:VCALENDAR
VERSION:2.0
PRODID:icalendar-ruby
CALSCALE:GREGORIAN
METHOD:PUBLISH
BEGIN:VEVENT
DTSTAMP:20260420T061238Z
UID:14-2063612@saintedwardthemartyr.com
DTSTART:20261014T130000Z
DTEND:20261014T190000Z
CLASS:PUBLIC
CREATED:20260420T013215
DESCRIPTION:
LAST-MODIFIED:20260420T013215
LOCATION:Church of St. Edward the Martyr
SUMMARY:El Barrio Angels: Drop-in Center
URL;VALUE=URI:https://www.saintedwardthemartyr.com/events/el-barrio-angels-
 drop-in-center--13/2026-10-14
END:VEVENT
END:VCALENDAR
